BEGIN:VCALENDAR
VERSION:2.0
PRODID:-//California State Trade Expansion Program (STEP) - ECPv6.15.17//NONSGML v1.0//EN
CALSCALE:GREGORIAN
METHOD:PUBLISH
X-ORIGINAL-URL:https://export.business.ca.gov
X-WR-CALDESC:Events for California State Trade Expansion Program (STEP)
REFRESH-INTERVAL;VALUE=DURATION:PT1H
X-Robots-Tag:noindex
X-PUBLISHED-TTL:PT1H
BEGIN:VTIMEZONE
TZID:America/Los_Angeles
BEGIN:DAYLIGHT
TZOFFSETFROM:-0800
TZOFFSETTO:-0700
TZNAME:PDT
DTSTART:20230312T100000
END:DAYLIGHT
BEGIN:STANDARD
TZOFFSETFROM:-0700
TZOFFSETTO:-0800
TZNAME:PST
DTSTART:20231105T090000
END:STANDARD
BEGIN:DAYLIGHT
TZOFFSETFROM:-0800
TZOFFSETTO:-0700
TZNAME:PDT
DTSTART:20240310T100000
END:DAYLIGHT
BEGIN:STANDARD
TZOFFSETFROM:-0700
TZOFFSETTO:-0800
TZNAME:PST
DTSTART:20241103T090000
END:STANDARD
BEGIN:DAYLIGHT
TZOFFSETFROM:-0800
TZOFFSETTO:-0700
TZNAME:PDT
DTSTART:20250309T100000
END:DAYLIGHT
BEGIN:STANDARD
TZOFFSETFROM:-0700
TZOFFSETTO:-0800
TZNAME:PST
DTSTART:20251102T090000
END:STANDARD
BEGIN:DAYLIGHT
TZOFFSETFROM:-0800
TZOFFSETTO:-0700
TZNAME:PDT
DTSTART:20260308T100000
END:DAYLIGHT
BEGIN:STANDARD
TZOFFSETFROM:-0700
TZOFFSETTO:-0800
TZNAME:PST
DTSTART:20261101T090000
END:STANDARD
BEGIN:DAYLIGHT
TZOFFSETFROM:-0800
TZOFFSETTO:-0700
TZNAME:PDT
DTSTART:20270314T100000
END:DAYLIGHT
BEGIN:STANDARD
TZOFFSETFROM:-0700
TZOFFSETTO:-0800
TZNAME:PST
DTSTART:20271107T090000
END:STANDARD
END:VTIMEZONE
BEGIN:VEVENT
DTSTART;VALUE=DATE:20240407
DTEND;VALUE=DATE:20260413
DTSTAMP:20260421T202330
CREATED:20250313T200743Z
LAST-MODIFIED:20260123T162514Z
UID:246317-1712448000-1776038399@export.business.ca.gov
SUMMARY:Chile FIDAE
DESCRIPTION:FIDAE provides significant sales opportunities for California businesses seeking to enter the Chilean aerospace and defense market. Join the California Pavilion at the 2026 FIDAE Airshow! The California Governor’s Office of Business and Economic Development (GO-Biz) invites interested California small businesses to exhibit under the California Pavilion within the USA Pavilion at Airshow. California small businesses that qualify are eligible to participate at a significantly reduced cost. \nFIDAE brings together all organizations involved in Chile’s National Space System. This is a multi-sectoral trade show covering: Civil & Commercial Aviation\, Defense\, Airport Equipment & Services\, Homeland Security\, Aircraft Maintenance & Space Technology\, RPAS/UAV & Cybersecurity. \nThe California STEP Program will support up four STEP eligible California small businesses to participate in the Pavilion. Review the flyer to learn more. \nContact for the STEP program/California Pavilion: Diana Dominguez\nContact for the Exhibitor Registration: Kevin Tighe \n 
URL:https://export.business.ca.gov/event/chile-fidae/
LOCATION:Santiago\, Chile
CATEGORIES:Aerospace and Defense
ATTACH;FMTTYPE=image/png:https://export.business.ca.gov/wp-content/uploads/2026-Chile-FIDAE-Icon.png
END:VEVENT
BEGIN:VEVENT
DTSTART;VALUE=DATE:20250325
DTEND;VALUE=DATE:20250329
DTSTAMP:20260421T202330
CREATED:20240612T204559Z
LAST-MODIFIED:20250109T192337Z
UID:59252-1742860800-1743206399@export.business.ca.gov
SUMMARY:Avalon Airshow 2025
DESCRIPTION:The California Governor’s Office of Business and Economic Development (GO-Biz) will host a California Pavilion at the 2025 edition of the Avalon Australia Airshow. GO-Biz invites California small businesses interested in the Australian aerospace\, aviation\, maritime\, defense and security market segments to join our pavilion to showcase their innovative tech and solutions! \n  \nPlease review the flyer to learn more about the California Pavilion benefits.   \n  \nThe AVALON 2025 Australian International Airshow and Aerospace & Defense Exposition is a global business\, defense\, and public event\, attracting senior civil aviation\, aerospace\, space and defense industry\, military and government decision-makers from around the world. \n  \nAVALON 2025 will be a platform for industry at all levels to promote to customers\, partners and suppliers\, providing unrivaled access to the region’s aviation\, aerospace\, defense and space community. The show is comprised of a range of indoor and outdoor display options\, air display flights and promotional opportunities\, and more. \n  \nSPOTLIGHT: Australia Strategic Defense Review \nOn April 24\,2023\, the Australian government released the Strategic Defence Review (SDR)\, an update to the 2016 Defence White paper charting the course of the Australian Defence Force as they upgrade\, expand and shape their defense for the next several decades. Australia must enhance their Navy’s lethality – including through its surface fleet and conventionally-armed\, nuclear-powered submarines – underpinned by a continuous naval shipbuilding program. \n  \nWith this directive\, Australia will continue to be in the Maritime/Defense spotlight for the foreseeable future as AUKUS continues to play a major role as explained in the SDR including the expansion of maritime and defense opportunities for US companies seeking sales and partnerships in Australia. This inclusive document offers an executive briefing which can be found on pages 18-21. \n 
URL:https://export.business.ca.gov/event/avalon-airshow/
LOCATION:Geelong\, Victoria\, Australia
CATEGORIES:Aerospace and Defense,California Pavilion
ATTACH;FMTTYPE=image/png:https://export.business.ca.gov/wp-content/uploads/6.png
END:VEVENT
END:VCALENDAR