BEGIN:VCALENDAR
VERSION:2.0
PRODID:-//California State Trade Expansion Program (STEP) - ECPv6.15.17//NONSGML v1.0//EN
CALSCALE:GREGORIAN
METHOD:PUBLISH
X-WR-CALNAME:California State Trade Expansion Program (STEP)
X-ORIGINAL-URL:https://export.business.ca.gov
X-WR-CALDESC:Events for California State Trade Expansion Program (STEP)
REFRESH-INTERVAL;VALUE=DURATION:PT1H
X-Robots-Tag:noindex
X-PUBLISHED-TTL:PT1H
BEGIN:VTIMEZONE
TZID:America/Los_Angeles
BEGIN:DAYLIGHT
TZOFFSETFROM:-0800
TZOFFSETTO:-0700
TZNAME:PDT
DTSTART:20230312T100000
END:DAYLIGHT
BEGIN:STANDARD
TZOFFSETFROM:-0700
TZOFFSETTO:-0800
TZNAME:PST
DTSTART:20231105T090000
END:STANDARD
BEGIN:DAYLIGHT
TZOFFSETFROM:-0800
TZOFFSETTO:-0700
TZNAME:PDT
DTSTART:20240310T100000
END:DAYLIGHT
BEGIN:STANDARD
TZOFFSETFROM:-0700
TZOFFSETTO:-0800
TZNAME:PST
DTSTART:20241103T090000
END:STANDARD
BEGIN:DAYLIGHT
TZOFFSETFROM:-0800
TZOFFSETTO:-0700
TZNAME:PDT
DTSTART:20250309T100000
END:DAYLIGHT
BEGIN:STANDARD
TZOFFSETFROM:-0700
TZOFFSETTO:-0800
TZNAME:PST
DTSTART:20251102T090000
END:STANDARD
END:VTIMEZONE
BEGIN:VEVENT
DTSTART;VALUE=DATE:20240220
DTEND;VALUE=DATE:20240226
DTSTAMP:20260423T154851
CREATED:20230713T152650Z
LAST-MODIFIED:20230829T160941Z
UID:58287-1708387200-1708905599@export.business.ca.gov
SUMMARY:Singapore Airshow 2024 California Pavilion
DESCRIPTION:The California Governor’s Office of Business and Economic Development (GO-Biz) invites interested California small businesses to register their interest for the California Pavilion within the USA Pavilion at Singapore Airshow. California small businesses that qualify for STEP funding are eligible to participate at a significantly reduced cost. \nReview the flyer to learn more.\nRegister Your Interest to Participate HERE. \nContact Henan.Li@gobiz.ca.gov
URL:https://export.business.ca.gov/event/singapore-airshow-2024-california-pavilion/
LOCATION:Changi\, Singapore
CATEGORIES:Aerospace and Defense
ATTACH;FMTTYPE=image/png:https://export.business.ca.gov/wp-content/uploads/singapore-airshow-2024-california-pavilion.png
END:VEVENT
END:VCALENDAR