BEGIN:VCALENDAR
VERSION:2.0
PRODID:-//California State Trade Expansion Program (STEP) - ECPv6.15.17//NONSGML v1.0//EN
CALSCALE:GREGORIAN
METHOD:PUBLISH
X-WR-CALNAME:California State Trade Expansion Program (STEP)
X-ORIGINAL-URL:https://export.business.ca.gov
X-WR-CALDESC:Events for California State Trade Expansion Program (STEP)
REFRESH-INTERVAL;VALUE=DURATION:PT1H
X-Robots-Tag:noindex
X-PUBLISHED-TTL:PT1H
BEGIN:VTIMEZONE
TZID:America/Los_Angeles
BEGIN:DAYLIGHT
TZOFFSETFROM:-0800
TZOFFSETTO:-0700
TZNAME:PDT
DTSTART:20220313T100000
END:DAYLIGHT
BEGIN:STANDARD
TZOFFSETFROM:-0700
TZOFFSETTO:-0800
TZNAME:PST
DTSTART:20221106T090000
END:STANDARD
BEGIN:DAYLIGHT
TZOFFSETFROM:-0800
TZOFFSETTO:-0700
TZNAME:PDT
DTSTART:20230312T100000
END:DAYLIGHT
BEGIN:STANDARD
TZOFFSETFROM:-0700
TZOFFSETTO:-0800
TZNAME:PST
DTSTART:20231105T090000
END:STANDARD
BEGIN:DAYLIGHT
TZOFFSETFROM:-0800
TZOFFSETTO:-0700
TZNAME:PDT
DTSTART:20240310T100000
END:DAYLIGHT
BEGIN:STANDARD
TZOFFSETFROM:-0700
TZOFFSETTO:-0800
TZNAME:PST
DTSTART:20241103T090000
END:STANDARD
END:VTIMEZONE
BEGIN:VEVENT
DTSTART;VALUE=DATE:20231112
DTEND;VALUE=DATE:20231117
DTSTAMP:20260424T043222
CREATED:20230829T183954Z
LAST-MODIFIED:20230830T161721Z
UID:58416-1699747200-1700179199@export.business.ca.gov
SUMMARY:Aerospace and Defense Trade Mission to Romania & Poland
DESCRIPTION:The California Governor’s Office of Business and Economic Development (GO-Biz) invites interested California small businesses to register for the US Commercial Service’s  US Aerospace and Defense Trade Mission to Romania & Poland. Accepted California small businesses that qualify may receive STEP funding to significantly reduce participation fees. \nReview the flyer to learn more.\n\nContact Patricia.Utterback@gobiz.ca.gov
URL:https://export.business.ca.gov/event/aerospace-and-defense-trade-mission-to-romania-poland/
LOCATION:Romania and Poland
CATEGORIES:Aerospace and Defense
ATTACH;FMTTYPE=image/png:https://export.business.ca.gov/wp-content/uploads/aerospace-and-defense-trade-mission-to-romania-poland.png
END:VEVENT
END:VCALENDAR