BEGIN:VCALENDAR
VERSION:2.0
PRODID:-//California State Trade Expansion Program (STEP) - ECPv6.15.17//NONSGML v1.0//EN
CALSCALE:GREGORIAN
METHOD:PUBLISH
X-ORIGINAL-URL:https://export.business.ca.gov
X-WR-CALDESC:Events for California State Trade Expansion Program (STEP)
REFRESH-INTERVAL;VALUE=DURATION:PT1H
X-Robots-Tag:noindex
X-PUBLISHED-TTL:PT1H
BEGIN:VTIMEZONE
TZID:America/Los_Angeles
BEGIN:DAYLIGHT
TZOFFSETFROM:-0800
TZOFFSETTO:-0700
TZNAME:PDT
DTSTART:20210314T100000
END:DAYLIGHT
BEGIN:STANDARD
TZOFFSETFROM:-0700
TZOFFSETTO:-0800
TZNAME:PST
DTSTART:20211107T090000
END:STANDARD
BEGIN:DAYLIGHT
TZOFFSETFROM:-0800
TZOFFSETTO:-0700
TZNAME:PDT
DTSTART:20220313T100000
END:DAYLIGHT
BEGIN:STANDARD
TZOFFSETFROM:-0700
TZOFFSETTO:-0800
TZNAME:PST
DTSTART:20221106T090000
END:STANDARD
BEGIN:DAYLIGHT
TZOFFSETFROM:-0800
TZOFFSETTO:-0700
TZNAME:PDT
DTSTART:20230312T100000
END:DAYLIGHT
BEGIN:STANDARD
TZOFFSETFROM:-0700
TZOFFSETTO:-0800
TZNAME:PST
DTSTART:20231105T090000
END:STANDARD
END:VTIMEZONE
BEGIN:VEVENT
DTSTART;VALUE=DATE:20221017
DTEND;VALUE=DATE:20221022
DTSTAMP:20260421T113326
CREATED:20220707T001305Z
LAST-MODIFIED:20230907T184541Z
UID:39211-1665964800-1666396799@export.business.ca.gov
SUMMARY:Advanced Manufacturing Business Development Mission (Registration Open Until June 26\, 2022)
DESCRIPTION:This trade mission will assist U.S. businesses in the advanced manufacturing sector to identify export opportunities in Indonesia\, Singapore\, and Japan. These markets present excellent opportunities for U.S. businesses because of their strength and projected growth in advanced manufacturing\, as well as their strategic location in the Asia Pacific region. The event will include group interaction with government agencies and industry experts\, promotional opportunities at the Industrial Transformation Asia-Pacific (ITAP) trade show\, and customized one-on-one business appointments with pre-screened potential agents\, distributors\, partners\, and buyers. Please contact Eve Lerman or Dusan Marinkovic with any questions regarding this event. Businesses who qualify for STEP funding may be eligible for funding to subsidize the cost of participation\, depending on funding availability. Please contact Henan Li to learn more.
URL:https://export.business.ca.gov/event/advanced-manufacturing-business-development-mission-registration-open-until-june-26-2022/
LOCATION:Jakarta and Batam\, Indonesia; Singapore; Tokyo\, Japan (optional)
CATEGORIES:Advanced Manufacturing
ATTACH;FMTTYPE=image/png:https://export.business.ca.gov/wp-content/uploads/Advanced-Manufacturing-Trade-Mission-4x6-1.png
END:VEVENT
END:VCALENDAR